BEGIN:VCALENDAR
VERSION:2.0
BEGIN:VEVENT
CLASS:PUBLIC
CATEGORIES:MEETING
DTSTART;TZID=America/Los_Angeles:20210717T170000
DTEND;TZID=America/Los_Angeles:20210717T170000
SUMMARY:LeBono at la Jolla Shores Beach
DESCRIPTION:Age Limit: All Ages\n\nDetails: Join me at LA JOLLA SHORES BEACH BONFIRE JAM AND POTLUCK!!!\nhttps://meetu.ps/e/JwBrG/RVQd4/a\n
LOCATION:la Jolla Shores Beach - San Diego, CA, 92037, US
END:VEVENT

END:VCALENDAR
