BEGIN:VCALENDAR
VERSION:2.0
BEGIN:VEVENT
CLASS:PUBLIC
CATEGORIES:MEETING
DTSTART;TZID=America/Denver:20210621T150000
DTEND;TZID=America/Denver:20210621T150000
SUMMARY:The David Wheeler Show at Sante Fe Brewing Company
DESCRIPTION:Price: FREE\nAge Limit: All Ages\n\nDetails: Make Music Day is an international solstice event. LIVE music will be flowing from the Santa Fe Brewing Company&#39;s outdoor patio from 3-8 pm. David Wheeler performs solo originals 7-8 pm in his first live appearance since the pandemic. Free admittance. 
LOCATION:Sante Fe Brewing Company - 35 Fire Place, Sante Fe, NM, 87508, US
END:VEVENT

END:VCALENDAR
