BEGIN:VCALENDAR
VERSION:2.0
BEGIN:VEVENT
CLASS:PUBLIC
CATEGORIES:MEETING
DTSTART;TZID=America/Los_Angeles:20210703T123000
DTEND;TZID=America/Los_Angeles:20210703T123000
SUMMARY:LeBono at Black Dog Shoppe
DESCRIPTION:Age Limit: All Ages
LOCATION:Black Dog Shoppe - 33231 Green Valley Lake Road, Green Valley Lake, CA, 92341, US
END:VEVENT

END:VCALENDAR
