BEGIN:VCALENDAR
VERSION:2.0
BEGIN:VEVENT
CLASS:PUBLIC
CATEGORIES:MEETING
DTSTART;TZID=America/Boise:20210529T160000
DTEND;TZID=America/Boise:20210529T160000
SUMMARY:illicitizen at Tasso
DESCRIPTION:Price: Buy a Sandwich\nAge Limit: All Ages\n\nDetails: Join us every last Saturday of the month.
LOCATION:Tasso - 342 East State Street, Eagle, ID, 83616, US
END:VEVENT

END:VCALENDAR
