BEGIN:VCALENDAR
VERSION:2.0
BEGIN:VEVENT
CLASS:PUBLIC
CATEGORIES:MEETING
DTSTART;TZID=America/Indiana/Indianapolis:20210615T183000
DTEND;TZID=America/Indiana/Indianapolis:20210615T183000
SUMMARY:PR1 Promotions / DJ Tiburon at The Smokestack Brew
DESCRIPTION:Age Limit: All Ages\n\nDetails: This is a 4 + year recurring weekly comedy show featuring nationally recognized comedians,  magicians,  and hypnotists. You don&#39;t want to miss out on the great food,  service,  and laughter.  Another PR1 Promotions Experience. 
LOCATION:The Smokestack Brew - 100 North Center Street, Mishawaka, IN, 46544, US
END:VEVENT

END:VCALENDAR
