BEGIN:VCALENDAR
VERSION:2.0
BEGIN:VEVENT
CLASS:PUBLIC
CATEGORIES:MEETING
DTSTART;TZID=America/New_York:20210703T180000
DTEND;TZID=America/New_York:20210703T180000
SUMMARY:Lady D at Cantrell Pub & Grill
DESCRIPTION:Price: N/A\nAge Limit: All Ages\n\nDetails: Lady D &amp; MI$$ION. R&amp;B, Blues, Reggae and Soul.
LOCATION:Cantrell Pub & Grill - Gatewood Road, Fayetteville, WV, 25840, US
END:VEVENT

END:VCALENDAR
