BEGIN:VCALENDAR
VERSION:2.0
BEGIN:VEVENT
CLASS:PUBLIC
CATEGORIES:MEETING
DTSTART;TZID=America/Boise:20210522T193000
DTEND;TZID=America/Boise:20210522T193000
SUMMARY:illicitizen at Boise Hive
DESCRIPTION:Price: 0.00\nAge Limit: All Ages\n\nDetails: Live stream here:\nhttps://www.facebook.com/boisehive/videos/
LOCATION:Boise Hive - 3907 Custer Drive, Boise, ID, 83705, US
END:VEVENT

END:VCALENDAR
