BEGIN:VCALENDAR
VERSION:2.0
BEGIN:VEVENT
CLASS:PUBLIC
CATEGORIES:MEETING
DTSTART;TZID=America/New_York:20210515T120000
DTEND;TZID=America/New_York:20210515T120000
SUMMARY:Lady D at Beckley Intermodal Gateway
DESCRIPTION:Price: N/A\nAge Limit: All Ages\n\nDetails: A celebration of Bill Withers and his music.
LOCATION:Beckley Intermodal Gateway - 501 Neville St., Beckley, WV, 25801, US
END:VEVENT

END:VCALENDAR
