BEGIN:VCALENDAR
VERSION:2.0
BEGIN:VEVENT
CLASS:PUBLIC
CATEGORIES:MEETING
DTSTART;TZID=America/Los_Angeles:20210514T200000
DTEND;TZID=America/Los_Angeles:20210514T200000
SUMMARY:LeBono at The Marquis Lounge
DESCRIPTION:Price: Free Show\nAge Limit: 21+\n\nDetails: DedBuny LIVE featuring songs from his album &quot;And I&quot; and upcoming album &quot;Something to Say&quot; plus Covers from the 80s to Now!!!
LOCATION:The Marquis Lounge - 1036 West Highland Avenue, San Bernardino, CA, 92405, US
END:VEVENT

END:VCALENDAR
