BEGIN:VCALENDAR
VERSION:2.0
BEGIN:VEVENT
CLASS:PUBLIC
CATEGORIES:MEETING
DTSTART;TZID=America/New_York:20210606T170000
DTEND;TZID=America/New_York:20210606T170000
SUMMARY:Bob Niederriter at Crocker Park
DESCRIPTION:Age Limit: All Ages\n\nDetails: 5:00 - 7:00 trio performance at Crocker Park details TBA .
LOCATION:Crocker Park - 25 Main St, Westlake, OH, 44145, US
END:VEVENT

END:VCALENDAR
