BEGIN:VCALENDAR
VERSION:2.0
BEGIN:VEVENT
CLASS:PUBLIC
CATEGORIES:MEETING
DTSTART;TZID=America/Los_Angeles:20210319T200000
DTEND;TZID=America/Los_Angeles:20210319T200000
SUMMARY:LeBono at The Marquis Lounge
DESCRIPTION:Price: Free\nAge Limit: 21+\n\nDetails: Live Music with Guitarist Singer/Songwriter DedBuny!!! Rock-ish Originals and Covers!! 1 man standing with a FULL Band sound!!
LOCATION:The Marquis Lounge - 1036 West Highland Avenue, San Bernardino, CA, 92405, US
END:VEVENT

END:VCALENDAR
