BEGIN:VCALENDAR
VERSION:2.0
BEGIN:VEVENT
CLASS:PUBLIC
CATEGORIES:MEETING
DTSTART;TZID=Pacific/Auckland:20210227T170000
DTEND;TZID=Pacific/Auckland:20210227T170000
SUMMARY:Phreaze at Hamilton Garden and Art Festival - ChickFest
DESCRIPTION:Price: FREE\nClick here to buy tickets: https://hgaf.co.nz\nAge Limit: All Ages\n\nDetails: Catch Phreaze &amp; friends at CHICKFEST during the Hamilton Garden Festival 2021! Originally from Te Awamutu but travelling from Tauranga just for you! Phreaze&#39;s set is 6.45pm but CHICKFEST (an all-female lineup!) runs from 5pm-9pm at the Grass Roots Trust Festival Hub! Entry is FREE!!!
LOCATION:Hamilton Garden and Art Festival - ChickFest - Grassroots Trust Festival Hub, Hamilton, NZ
END:VEVENT

END:VCALENDAR
