BEGIN:VCALENDAR
VERSION:2.0
BEGIN:VEVENT
CLASS:PUBLIC
CATEGORIES:MEETING
DTSTART;TZID=America/New_York:20201127T190000
DTEND;TZID=America/New_York:20201127T190000
SUMMARY:Kiss The Sky: RE-Experience Jimi Hendrix at Bearsville Theater
DESCRIPTION:Price: Donations\nClick here to buy tickets: http://bearsvilletheater.com/events/kiss-the-sky-the-re-experience-worlds-greatest-tribute-to-jimi-hendrix-annual-birthday-celebration/\nAge Limit: All Ages\n\nDetails: FREE LIVE STREAM SHOW\n**JIMI HENDRIX BIRTHDAY BASH**\nDONATIONS ONLY!!!\nLIVE STREAM INFO - http://bearsvilletheater.com/events/kiss-the-sky-the-re-experience-worlds-greatest-tribute-to-jimi-hendrix-annual-birthday-celebration/\n
LOCATION:Bearsville Theater - 291 Tinker St, Woodstock, NY, 12498, US
END:VEVENT

END:VCALENDAR
