BEGIN:VCALENDAR
VERSION:2.0
BEGIN:VEVENT
CLASS:PUBLIC
CATEGORIES:MEETING
DTSTART;TZID=America/New_York:20201128T200000
DTEND;TZID=America/New_York:20201128T200000
SUMMARY:Scotty and the Reverbs at The Shack
DESCRIPTION:Age Limit: All Ages
LOCATION:The Shack - 115 N Main St, Durham, NC, 27701, US
END:VEVENT

END:VCALENDAR
