BEGIN:VCALENDAR
VERSION:2.0
BEGIN:VEVENT
CLASS:PUBLIC
CATEGORIES:MEETING
DTSTART;TZID=Pacific/Auckland:20201218T200000
DTEND;TZID=Pacific/Auckland:20201218T200000
SUMMARY:Phreaze at Waihi Beach Hotel
DESCRIPTION:Price: $15+BF\nClick here to buy tickets: https://www.eventbrite.co.nz/e/hip-hop-summer-jam-tickets-128605744243\nAge Limit: 18+\n\nDetails: A dooooope night of Hiphop is comming to WAIHI BEACH!! Lets goooooo!
LOCATION:Waihi Beach Hotel - Waihi Beach, NZ
END:VEVENT

END:VCALENDAR
