BEGIN:VCALENDAR
VERSION:2.0
BEGIN:VEVENT
CLASS:PUBLIC
CATEGORIES:MEETING
DTSTART;TZID=Pacific/Auckland:20201106T210000
DTEND;TZID=Pacific/Auckland:20201106T210000
SUMMARY:Phreaze at Talisman Hotel & Restaurant
DESCRIPTION:Price: $10 Pre Sold $15 At Door\nAge Limit: 18+\n\nDetails: LIVE Hiphop and DJ all night! Lezgooooo Kati!!
LOCATION:Talisman Hotel & Restaurant - 7 Main Road, Katikati, 3129, NZ
END:VEVENT

END:VCALENDAR
