BEGIN:VCALENDAR
VERSION:2.0
BEGIN:VEVENT
CLASS:PUBLIC
CATEGORIES:MEETING
DTSTART;TZID=America/New_York:20210122T220000
DTEND;TZID=America/New_York:20210122T220000
SUMMARY:The Desperado Under the Eaves at 503 N Duke St
DESCRIPTION:Age Limit: All Ages
LOCATION:503 N Duke St - 503 North Duke Street, Durham, NC, 27701, US
END:VEVENT

END:VCALENDAR
