BEGIN:VCALENDAR
VERSION:2.0
BEGIN:VEVENT
CLASS:PUBLIC
CATEGORIES:MEETING
DTSTART;TZID=America/New_York:20210122T143000
DTEND;TZID=America/New_York:20210122T143000
SUMMARY:The Desperado Under the Eaves at 501 Washington St
DESCRIPTION:Age Limit: All Ages
LOCATION:501 Washington St - 501 Washington Street, Durham, NC, 27701, US
END:VEVENT

END:VCALENDAR
