BEGIN:VCALENDAR
VERSION:2.0
BEGIN:VEVENT
CLASS:PUBLIC
CATEGORIES:MEETING
DTSTART;TZID=America/New_York:20201122T133000
DTEND;TZID=America/New_York:20201122T133000
SUMMARY:Paul Levinson at Philcon
DESCRIPTION:Age Limit: All Ages\n\nDetails: Totally virtual, online 30-minute concert - enjoy from the comfort and safety of your home, anywhere in the world!   Watch here for links!
LOCATION:Philcon - 2349 W, NJ-70, Cherry Hill, NJ, 08002, US
END:VEVENT

END:VCALENDAR
