BEGIN:VCALENDAR
VERSION:2.0
BEGIN:VEVENT
CLASS:PUBLIC
CATEGORIES:MEETING
DTSTART;TZID=Pacific/Auckland:20200926T173000
DTEND;TZID=Pacific/Auckland:20200926T173000
SUMMARY:Phreaze at The Sizl with Tizl @ Tauranga
DESCRIPTION:Age Limit: 18+\n\nDetails: THE SIZL WITH TIZL - Secret Location in TAURANGA! Invite Only Show ft performances by DEKAY / PHREAZE / G7 MUSIC / NATE JACKSON &amp; REGAN PERRY
LOCATION:The Sizl with Tizl @ Tauranga - 123 Exclusive Invite Only Address, Tauranga, 3112, NZ
END:VEVENT

END:VCALENDAR
