BEGIN:VCALENDAR
VERSION:2.0
BEGIN:VEVENT
CLASS:PUBLIC
CATEGORIES:MEETING
DTSTART;TZID=Europe/Berlin:20200912T200000
DTEND;TZID=Europe/Berlin:20200912T200000
SUMMARY:Rod Fritz at Speicher No. 1
DESCRIPTION:Price: 5 Euro\nAge Limit: All Ages\n\nDetails: Rod Fritz live at Speicher No.1 Hoyerswerda, Germany
LOCATION:Speicher No. 1 - 1 Am Speicher, Hoyerswerda, SN, 02977, DE
END:VEVENT

END:VCALENDAR
