BEGIN:VCALENDAR
VERSION:2.0
BEGIN:VEVENT
CLASS:PUBLIC
CATEGORIES:MEETING
DTSTART;TZID=Europe/London:20210418T180000
DTEND;TZID=Europe/London:20210418T180000
SUMMARY:BB BlackDog Steampunk Rock at Arts Club
DESCRIPTION:Price: £30\nClick here to buy tickets: https://hrhpsych.com/shop/\nAge Limit: All Ages\n\nDetails: Over 16s only\nTake a journey with the very first HRH Psych, a unique event in Liverpool over two days and three stages. With over 40 bands, you&#39;ll witness the very best in the psych-rock spectrum, with added stoner, acid, fuzz and experimental.\n\nWeekend Tickets\n\nRoom 1: PSYCH\nElectrict Moon | Oresund Space Collective | part Chimp | The Cosmic Dead | Helicon | BBBlack Dog &amp; Friends | Dead Sea Apes | Psychic Lemon | Sendelica | Sonic Trip Project | The Telepaths\n\nROOM 2: STONER\nGonga | Gorilla | Red Spektor | Deepshade | Doctor Doom | Fire Down Below | Crylet | Psychlona | Madmess | Master Charger | Woven Men | Stew\n\nROOM 3: GARAGE/EXPERIMENTAL/NEW PSYCH SOUNDS\nHarvey Bainbridge | Snake Don&#39;t Belong In Alaska | Amon Acid Black Tempest | Estuary Blacks | Halo Noose | Mue | Infinity Forms Of Yellow Remember | Road Trip | Stingray Fever | Tom Slatter | Strangelove | Tape Noise | The Ornots | The Telephones\n\n\nhttps://academymusicgroup.com/artsclubliverpool/events/1312984/hrh-psych-tickets\n\n
LOCATION:Arts Club - Liverpool, UK
END:VEVENT

END:VCALENDAR
