BEGIN:VCALENDAR
VERSION:2.0
BEGIN:VEVENT
CLASS:PUBLIC
CATEGORIES:MEETING
DTSTART;TZID=America/Los_Angeles:20200925T200000
DTEND;TZID=America/Los_Angeles:20200925T200000
SUMMARY:LeBono at Derby's Bar and Grill
DESCRIPTION:Price: FREE\nAge Limit: All Ages\n\nDetails: Acoustic Canopy Session with DEDBUNY performing Rock Originals and Covers.
LOCATION:Derby's Bar and Grill - 2860 West Florida Avenue, Hemet, CA, 92545, US
END:VEVENT

END:VCALENDAR
