BEGIN:VCALENDAR
VERSION:2.0
BEGIN:VEVENT
CLASS:PUBLIC
CATEGORIES:MEETING
DTSTART;TZID=America/Chicago:20200905T180000
DTEND;TZID=America/Chicago:20200905T180000
SUMMARY:Soul Punch at Circa Pub and Grill
DESCRIPTION:Age Limit: All Ages\n\nDetails: Parking Lot Cover Show! 6-9PM
LOCATION:Circa Pub and Grill - 1090 Old Des Peres Road, Des Peres, MO, 63131, US
END:VEVENT

END:VCALENDAR
