BEGIN:VCALENDAR
VERSION:2.0
BEGIN:VEVENT
CLASS:PUBLIC
CATEGORIES:MEETING
DTSTART;TZID=America/New_York:20200830T200000
DTEND;TZID=America/New_York:20200830T200000
SUMMARY:The Desperado Under the Eaves at 502 Elf St
DESCRIPTION:Age Limit: All Ages
LOCATION:502 Elf St - 502 Elf Street, Durham, NC, 27705, US
END:VEVENT

END:VCALENDAR
