BEGIN:VCALENDAR
VERSION:2.0
BEGIN:VEVENT
CLASS:PUBLIC
CATEGORIES:MEETING
DTSTART;TZID=America/Chicago:20200816T150000
DTEND;TZID=America/Chicago:20200816T150000
SUMMARY:Soul Punch at Point Labadie Brewery
DESCRIPTION:Age Limit: All Ages\n\nDetails: Fun Cover Show 3-6PM
LOCATION:Point Labadie Brewery - 1029 Thiebes Road, Labadie, MO, 63055, US
END:VEVENT

END:VCALENDAR
