BEGIN:VCALENDAR
VERSION:2.0
BEGIN:VEVENT
CLASS:PUBLIC
CATEGORIES:MEETING
DTSTART;TZID=Pacific/Auckland:20200711T180000
DTEND;TZID=Pacific/Auckland:20200711T180000
SUMMARY:Phreaze at The Jam Factory
DESCRIPTION:Price: $10\nClick here to buy tickets: https://www.eventspronto.co.nz/phreaze\nAge Limit: 18+\n\nDetails: The PFC/Phreaze Factory Urban Music Jam &amp; Clothing Launch features a lineup of almost 4 hours of LIVE Hiphop/RnB artists from all over the Bay of Plenty, Waikato and Auckland Regions - you&#39;ve never seen this lineup all on one stage!\nOur artists will all be showcasing the new PFC gear so you get to see it up close and in action and if that isn&#39;t enough - there will even be massive PFC Clothing giveaways throughout the night too!\nTickets are PRE-SALE ONLY and will have an Exclusive 60 TICKET LIMIT - so you&#39;ll need to be quick!\nPhreaze Factory, spear-headed by award-winning female MC &#39;Phreaze&#39; is a Tauranga, New Zealand based organisation providing a number of services with the kaupapa of assisting Independent Artists/Musicians with Merch, Workshops, Photography, Event Management, Production and more! PFC/Phreaze Factory Custom Prints is the Custom Printing &amp; Clothing Label side of the Phreaze Factory umbrella. See the Facebook event page https://www.facebook.com/events/289306262197664/ or  www.phreazefactory.com for more information. 
LOCATION:The Jam Factory - 17th Ave West, Tauranga, 3112, NZ
END:VEVENT

END:VCALENDAR
