BEGIN:VCALENDAR
VERSION:2.0
BEGIN:VEVENT
CLASS:PUBLIC
CATEGORIES:MEETING
DTSTART;TZID=America/Los_Angeles:20200326T190000
DTEND;TZID=America/Los_Angeles:20200326T190000
SUMMARY:Stephanie Schneiderman at THURSDAY NIGHTS LIVE 
DESCRIPTION:Price: Free \nClick here to buy tickets: https://www.facebook.com/Stephanie-Schneiderman-33950676663/\nAge Limit: All Ages\n\nDetails: I will be performing a live-stream concert every Thursday night with Tony Furtado from our living room ! Our son Liam and cat Chloe may make appearances as well... \n\nYou can find the links to live-stream on my Facebook Page or Instagram @stephanieschneid 
LOCATION:THURSDAY NIGHTS LIVE  - From my living room !, Portland, OR, 97202, US
END:VEVENT

END:VCALENDAR
