BEGIN:VCALENDAR
VERSION:2.0
BEGIN:VEVENT
CLASS:PUBLIC
CATEGORIES:MEETING
DTSTART;TZID=America/Los_Angeles:20200321T180000
DTEND;TZID=America/Los_Angeles:20200321T180000
SUMMARY:LeBono at House of Blues Anaheim
DESCRIPTION:Price: 15.00\nAge Limit: 21+\n\nDetails: | FOUNDATION ROOM EVENT | 21 &amp; OVER ONLY |\n| Singer Songwriters from 6 - 8:30pm | Live BANDS from 8:30 - Midnight | DJ &amp; Hip Hop after midnight! |\n\nSound The Groove is excited to return to House of Blues Anaheim&#39;s Foundation Room, where we will be hosting our infamous Masquerade Bash/ Live Music Night! Join us at the Gardenwalk, where we will be hosting an incredible event filled with live music from 6pm until the bar closes! We&#39;ll have live artists all night, masquerade masks, and anything else we can throw in the mix to make it an amazing event. LED attire encouraged! Let&#39;s light up the night.\n\nLine Up &amp; Additional Info can be found at www.soundthegroove.com!\n\n| 21 &amp; Over | $15 Advance | $20 Day of Show | \n| Sound The Groove | House of Blues Anaheim | Foundation Room Anaheim | \n\nPlease Note: Tickets are always cheapest when purchasing through a performing artist. Tickets will also be available online and at the door, but they are more expensive and subject to capacity. Support local music!\n\n
LOCATION:House of Blues Anaheim - 1530 Disneyland Dr, Anaheim, CA, 92802, US
END:VEVENT

END:VCALENDAR
