BEGIN:VCALENDAR
VERSION:2.0
BEGIN:VEVENT
CLASS:PUBLIC
CATEGORIES:MEETING
DTSTART;TZID=America/New_York:20200724T180000
DTEND;TZID=America/New_York:20200724T180000
SUMMARY:Bob Niederriter at Mustard Seed Market and Cafe
DESCRIPTION:Age Limit: All Ages\n\nDetails: Trio performance from 6:00 pm - 9:00 pm . Details TBA .
LOCATION:Mustard Seed Market and Cafe - Fairlawn, OH, US
END:VEVENT

END:VCALENDAR
