BEGIN:VCALENDAR
VERSION:2.0
BEGIN:VEVENT
CLASS:PUBLIC
CATEGORIES:MEETING
DTSTART;TZID=America/New_York:20200606T200000
DTEND;TZID=America/New_York:20200606T200000
SUMMARY:Bob Niederriter at Passion Blues Club
DESCRIPTION:Age Limit: All Ages\n\nDetails: Trio performance from 8:00 pm - 11:00 pm , details tba .
LOCATION:Passion Blues Club - 1212 Walnut Avenue Northeast, Canton, OH, 44714, US
END:VEVENT

END:VCALENDAR
