BEGIN:VCALENDAR
VERSION:2.0
BEGIN:VEVENT
CLASS:PUBLIC
CATEGORIES:MEETING
DTSTART;TZID=Europe/Berlin:20200221T200000
DTEND;TZID=Europe/Berlin:20200221T200000
SUMMARY:Rod Fritz at Murphys Law Ulm
DESCRIPTION:Age Limit: 18+
LOCATION:Murphys Law Ulm - Keltergasse 3, Ulm, BW, 89073, DE
END:VEVENT

END:VCALENDAR
