BEGIN:VCALENDAR
VERSION:2.0
BEGIN:VEVENT
CLASS:PUBLIC
CATEGORIES:MEETING
DTSTART;TZID=America/Chicago:20200215T173000
DTEND;TZID=America/Chicago:20200215T173000
SUMMARY:Thom Shepherd at San Antonio Stock Show and Rodeo
DESCRIPTION:Click here to buy tickets: http://www.sarodeo.com\nAge Limit: All Ages\n\nDetails: At the Watering Hole again this year
LOCATION:San Antonio Stock Show and Rodeo - 3201 East Houston Street, San Antonio, TX, 78219, US
END:VEVENT

END:VCALENDAR
