BEGIN:VCALENDAR
VERSION:2.0
BEGIN:VEVENT
CLASS:PUBLIC
CATEGORIES:MEETING
DTSTART;TZID=America/Chicago:20200214T200000
DTEND;TZID=America/Chicago:20200214T200000
SUMMARY:Thom & Coley at Chili When It's Chilly
DESCRIPTION:Age Limit: All Ages
LOCATION:Chili When It's Chilly - Jellystone Park, Waller, TX, 77484, US
END:VEVENT

END:VCALENDAR
