BEGIN:VCALENDAR
VERSION:2.0
BEGIN:VEVENT
CLASS:PUBLIC
CATEGORIES:MEETING
DTSTART;TZID=America/Chicago:20200829T130000
DTEND;TZID=America/Chicago:20200829T130000
SUMMARY:Soul Punch at The Quarry Wine Garden
DESCRIPTION:Age Limit: All Ages\n\nDetails: 2/3 Soul Punch Cover Show 1-4 PM. \n2 Guitars and some percussion
LOCATION:The Quarry Wine Garden - 3960 Highway Z, Wentzville, MO, 63385, US
END:VEVENT

END:VCALENDAR
