BEGIN:VCALENDAR
VERSION:2.0
BEGIN:VEVENT
CLASS:PUBLIC
CATEGORIES:MEETING
DTSTART;TZID=America/Chicago:20200221T190000
DTEND;TZID=America/Chicago:20200221T190000
SUMMARY:Soul Punch at Old Hickory Golf Club
DESCRIPTION:Age Limit: All Ages\n\nDetails: Fun Cover Show 7-10PM
LOCATION:Old Hickory Golf Club - 1 Dye Club Drive, St. Charles, MO, 63304, US
END:VEVENT

END:VCALENDAR
