BEGIN:VCALENDAR
VERSION:2.0
BEGIN:VEVENT
CLASS:PUBLIC
CATEGORIES:MEETING
DTSTART;TZID=America/New_York:20200410T193000
DTEND;TZID=America/New_York:20200410T193000
SUMMARY:Lady D at Taylor Books
DESCRIPTION:Age Limit: All Ages\n\nDetails: Lady D with keyboardist Robert Gray
LOCATION:Taylor Books - 226 Capitol St., Charleston, WV, 25301, US
END:VEVENT

END:VCALENDAR
