BEGIN:VCALENDAR
VERSION:2.0
BEGIN:VEVENT
CLASS:PUBLIC
CATEGORIES:MEETING
DTSTART;TZID=America/New_York:20200315T160000
DTEND;TZID=America/New_York:20200315T160000
SUMMARY:Lady D at Beckley Art Center
DESCRIPTION:Price: $12.00\nAge Limit: All Ages\n\nDetails: Lady D, along with her band MI$$ION perform her original work, &quot;Appalachian BluesSpeak.&quot; Readings, spoken word and music.
LOCATION:Beckley Art Center - 600 Johnstown Rd., Beckley, WV, 25801, US
END:VEVENT

END:VCALENDAR
