BEGIN:VCALENDAR
VERSION:2.0
BEGIN:VEVENT
CLASS:PUBLIC
CATEGORIES:MEETING
DTSTART;TZID=America/New_York:20200228T200000
DTEND;TZID=America/New_York:20200228T200000
SUMMARY:Lady D at The Grove
DESCRIPTION:Age Limit: All Ages\n\nDetails: Lady D and MI$$ION. R&amp;B, Blues, Reggae, Jazz, Pop and Soul
LOCATION:The Grove - 103 Keller Avenue, Fayetteville, WV, 25840, US
END:VEVENT

END:VCALENDAR
