BEGIN:VCALENDAR
VERSION:2.0
BEGIN:VEVENT
CLASS:PUBLIC
CATEGORIES:MEETING
DTSTART;TZID=America/New_York:20200222T200000
DTEND;TZID=America/New_York:20200222T200000
SUMMARY:Lady D at JV's Restaurant & LIve Music Room
DESCRIPTION:Age Limit: 21+ or w/ adult\n\nDetails: Women In Blues show with Lady D, Mary Shaver and Liz Springer backed by Bad Influence Band.
LOCATION:JV's Restaurant & LIve Music Room - 6666 Arlington Boulevard, Falls Church, VA, 22042, US
END:VEVENT

END:VCALENDAR
