BEGIN:VCALENDAR
VERSION:2.0
BEGIN:VEVENT
CLASS:PUBLIC
CATEGORIES:MEETING
DTSTART;TZID=America/Chicago:20200201T200000
DTEND;TZID=America/Chicago:20200201T200000
SUMMARY:Dave Jordan Music at Maple Leaf Bar
DESCRIPTION:Age Limit: All Ages\n\nDetails: Come celebrate the  Vinyl Release of Burning Sage with us.
LOCATION:Maple Leaf Bar - 8316 Oak Street, New Orleans, LA, 70118, US
END:VEVENT

END:VCALENDAR
