BEGIN:VCALENDAR
VERSION:2.0
BEGIN:VEVENT
CLASS:PUBLIC
CATEGORIES:MEETING
DTSTART;TZID=America/Chicago:20200130T200000
DTEND;TZID=America/Chicago:20200130T200000
SUMMARY:Dave Jordan Music at Ogden Museum of Southern Art
DESCRIPTION:Age Limit: All Ages
LOCATION:Ogden Museum of Southern Art - 925 Camp St, New Orleans, LA, 70130, US
END:VEVENT

END:VCALENDAR
