BEGIN:VCALENDAR
VERSION:2.0
BEGIN:VEVENT
CLASS:PUBLIC
CATEGORIES:MEETING
DTSTART;TZID=America/Chicago:20200116T200000
DTEND;TZID=America/Chicago:20200116T200000
SUMMARY:Dave Jordan Music at Tipitina's
DESCRIPTION:Age Limit: All Ages
LOCATION:Tipitina's - 501 Napoleon Ave, New Orleans, LA, 70115, US
END:VEVENT

END:VCALENDAR
