BEGIN:VCALENDAR
VERSION:2.0
BEGIN:VEVENT
CLASS:PUBLIC
CATEGORIES:MEETING
DTSTART;TZID=America/New_York:20200404T200000
DTEND;TZID=America/New_York:20200404T200000
SUMMARY:Lady D at Monkey's Uncle Bar & Grill
DESCRIPTION:Price: N/A\nAge Limit: All Ages\n\nDetails: Lady D &amp; MI$$ION
LOCATION:Monkey's Uncle Bar & Grill - 845 Fayette Station Road, Fayetteville, WV, 25840, US
END:VEVENT

END:VCALENDAR
