BEGIN:VCALENDAR
VERSION:2.0
BEGIN:VEVENT
CLASS:PUBLIC
CATEGORIES:MEETING
DTSTART;TZID=Europe/Berlin:20200229T200000
DTEND;TZID=Europe/Berlin:20200229T200000
SUMMARY:Rod Fritz at landcafé kitzbichler
DESCRIPTION:Age Limit: All Ages
LOCATION:landcafé kitzbichler - Allee 4, Caaschwitz, DE
END:VEVENT

END:VCALENDAR
