BEGIN:VCALENDAR
VERSION:2.0
BEGIN:VEVENT
CLASS:PUBLIC
CATEGORIES:MEETING
DTSTART;TZID=America/New_York:20200214T190000
DTEND;TZID=America/New_York:20200214T190000
SUMMARY:Bob Niederriter at Passion Blues Club
DESCRIPTION:Age Limit: 18+ or w/ adult\n\nDetails: Trio performance at Passion Blues , from 7 pm - 10:30 pm .
LOCATION:Passion Blues Club - 1212 Walnut Avenue Northeast, Canton, OH, 44714, US
END:VEVENT

END:VCALENDAR
