BEGIN:VCALENDAR
VERSION:2.0
BEGIN:VEVENT
CLASS:PUBLIC
CATEGORIES:MEETING
DTSTART;TZID=Europe/London:20200215T210000
DTEND;TZID=Europe/London:20200215T210000
SUMMARY:The Skunnered at The Oakbank....
DESCRIPTION:Age Limit: 18+
LOCATION:The Oakbank.... - Sandbank, Dunoon, UK
END:VEVENT

END:VCALENDAR
