BEGIN:VCALENDAR
VERSION:2.0
BEGIN:VEVENT
CLASS:PUBLIC
CATEGORIES:MEETING
DTSTART;TZID=America/Chicago:20191231T210000
DTEND;TZID=America/Chicago:20191231T210000
SUMMARY:Soul Punch at Walnut Grill
DESCRIPTION:Age Limit: All Ages\n\nDetails: Happy New Years!! Acoustic Music and DJ! 
LOCATION:Walnut Grill - 10797 Sunset Hills Plaza, St. Louis, MO, 63127, US
END:VEVENT

END:VCALENDAR
