BEGIN:VCALENDAR
VERSION:2.0
BEGIN:VEVENT
CLASS:PUBLIC
CATEGORIES:MEETING
DTSTART;TZID=America/Los_Angeles:20200222T184500
DTEND;TZID=America/Los_Angeles:20200222T184500
SUMMARY:Led Kaapana at The Cue
DESCRIPTION:Price: $25 General, add $10 for dinner\nAge Limit: All Ages\n\nDetails: Doors 6:45\nShow 7:30\n925-687-4220 for tickets
LOCATION:The Cue - 1835 Colfax Street, Concord, CA, 94520, US
END:VEVENT

END:VCALENDAR
