BEGIN:VCALENDAR
VERSION:2.0
BEGIN:VEVENT
CLASS:PUBLIC
CATEGORIES:MEETING
DTSTART;TZID=America/Detroit:20200308T160000
DTEND;TZID=America/Detroit:20200308T160000
SUMMARY:Putnam Smith at Dearborn First Methodist
DESCRIPTION:Price: Free Will Offering ($15 suggested)\nAge Limit: All Ages\n\nDetails: Our first show as The Early Risers in Dearborn!  Excited to come back to Dearborn, and to be sharing the show with Jeff Karoub!  
LOCATION:Dearborn First Methodist - 22124 Garrison St, Dearborn, MI, 48124, US
END:VEVENT

END:VCALENDAR
